BEGIN:VCALENDAR
VERSION:2.0
PRODID:-//GYF ERP Solutions - ECPv6.15.20//NONSGML v1.0//EN
CALSCALE:GREGORIAN
METHOD:PUBLISH
X-ORIGINAL-URL:https://www.gyferp.com
X-WR-CALDESC:Events for GYF ERP Solutions
REFRESH-INTERVAL;VALUE=DURATION:PT1H
X-Robots-Tag:noindex
X-PUBLISHED-TTL:PT1H
BEGIN:VTIMEZONE
TZID:America/New_York
BEGIN:DAYLIGHT
TZOFFSETFROM:-0500
TZOFFSETTO:-0400
TZNAME:EDT
DTSTART:20180311T070000
END:DAYLIGHT
BEGIN:STANDARD
TZOFFSETFROM:-0400
TZOFFSETTO:-0500
TZNAME:EST
DTSTART:20181104T060000
END:STANDARD
BEGIN:DAYLIGHT
TZOFFSETFROM:-0500
TZOFFSETTO:-0400
TZNAME:EDT
DTSTART:20190310T070000
END:DAYLIGHT
BEGIN:STANDARD
TZOFFSETFROM:-0400
TZOFFSETTO:-0500
TZNAME:EST
DTSTART:20191103T060000
END:STANDARD
BEGIN:DAYLIGHT
TZOFFSETFROM:-0500
TZOFFSETTO:-0400
TZNAME:EDT
DTSTART:20200308T070000
END:DAYLIGHT
BEGIN:STANDARD
TZOFFSETFROM:-0400
TZOFFSETTO:-0500
TZNAME:EST
DTSTART:20201101T060000
END:STANDARD
BEGIN:DAYLIGHT
TZOFFSETFROM:-0500
TZOFFSETTO:-0400
TZNAME:EDT
DTSTART:20210314T070000
END:DAYLIGHT
BEGIN:STANDARD
TZOFFSETFROM:-0400
TZOFFSETTO:-0500
TZNAME:EST
DTSTART:20211107T060000
END:STANDARD
END:VTIMEZONE
BEGIN:VEVENT
DTSTART;TZID=America/New_York:20200917T083000
DTEND;TZID=America/New_York:20200917T103000
DTSTAMP:20260420T204430
CREATED:20191212T161554Z
LAST-MODIFIED:20200409T125832Z
UID:4209-1600331400-1600338600@www.gyferp.com
SUMMARY:Not-for-Profit Seminar - Rescheduled from May 14
DESCRIPTION:Topic TBD\n\nPresenters will speak on issues relevant to not-for-profit organizations and discuss practical suggestions and considerations. \nAttendees will receive two hours of CPE credit. No cost to attend. \nRegistration/networking begins at 8:00 a.m. Continental breakfast provided.
URL:https://www.gyferp.com/event/not-for-profit-seminar/
LOCATION:Rivers Club\, 301 Grant Street\, Pittsburgh\, PA\, 15219
CATEGORIES:Non-profit
END:VEVENT
BEGIN:VEVENT
DTSTART;TZID=America/New_York:20190925T083000
DTEND;TZID=America/New_York:20190925T103000
DTSTAMP:20260420T204430
CREATED:20190913T153150Z
LAST-MODIFIED:20190913T170302Z
UID:3530-1569400200-1569407400@www.gyferp.com
SUMMARY:GYF Not-for-Profit Seminar
DESCRIPTION:It’s Complicated!\n\nWhether you are talking about something “simple” like Form 1099 reporting\, or something extremely complex like cybersecurity\, it’s never easy. \nJoin our professionals as they focus on how these issues impact not-for-profit organizations. The presenters will address the preparation of Forms 1099 (with lots of time for you to gather the information you need prior to year-end) and the very complex and ever-changing realities of cybersecurity as it relates to financial information. \nWe will discuss practical suggestions and considerations that will allow you to shift from “I don’t know where to start” to “I got this!” \nAttendees will receive two hours of CPE credit. No cost to attend. \nRegistration/networking begins at 8:00 a.m. Continental breakfast provided. \n \n 
URL:https://www.gyferp.com/event/gyf-not-for-profit-seminar/
LOCATION:Rivers Club\, 301 Grant Street\, Pittsburgh\, PA\, 15219
CATEGORIES:GYF CPE,Non-profit
ATTACH;FMTTYPE=image/png:https://www.gyferp.com/wp-content/uploads/2019/09/NFP-Seminar-image-e1568389061563.png
END:VEVENT
END:VCALENDAR